BEGIN:VCALENDAR
VERSION:2.0
PRODID:-//Orange County United Way - ECPv6.10.2//NONSGML v1.0//EN
CALSCALE:GREGORIAN
METHOD:PUBLISH
X-ORIGINAL-URL:https://www.unitedwayoc.org
X-WR-CALDESC:Events for Orange County United Way
REFRESH-INTERVAL;VALUE=DURATION:PT1H
X-Robots-Tag:noindex
X-PUBLISHED-TTL:PT1H
BEGIN:VTIMEZONE
TZID:America/Los_Angeles
BEGIN:DAYLIGHT
TZOFFSETFROM:-0800
TZOFFSETTO:-0700
TZNAME:PDT
DTSTART:20240310T100000
END:DAYLIGHT
BEGIN:STANDARD
TZOFFSETFROM:-0700
TZOFFSETTO:-0800
TZNAME:PST
DTSTART:20241103T090000
END:STANDARD
BEGIN:DAYLIGHT
TZOFFSETFROM:-0800
TZOFFSETTO:-0700
TZNAME:PDT
DTSTART:20250309T100000
END:DAYLIGHT
BEGIN:STANDARD
TZOFFSETFROM:-0700
TZOFFSETTO:-0800
TZNAME:PST
DTSTART:20251102T090000
END:STANDARD
END:VTIMEZONE
BEGIN:VEVENT
DTSTART;TZID=America/Los_Angeles:20250610T120000
DTEND;TZID=America/Los_Angeles:20250610T130000
DTSTAMP:20260420T030455
CREATED:20250514T111307Z
LAST-MODIFIED:20250605T172226Z
UID:10000062-1749556800-1749560400@www.unitedwayoc.org
SUMMARY:Intro to Housing Advocacy
DESCRIPTION:Join us for an online session where we’ll cover the basics of housing advocacy and help you become a Housing Champion to #EndHomelessnessOC.\n\n\nWelcome to Intro to Housing Advocacy! \nAre you passionate about making a difference in your community? Join us for an informative session where you’ll learn the basics of advocating for affordable housing solutions and take away key strategies\, tools\, and resources to help you become a successful Housing Champion. \nWhether you’re a beginner or have some level of advocacy experience\, this event is perfect for anyone looking to make a local difference. Don’t miss out on this opportunity to learn and connect with like-minded individuals. \nRegister now and be part of the solution to #EndHomelessnessOC \nTo learn more about the Housing Champions Advocacy Network\, visit unitedtoendhomelessness.org/housing-champions
URL:https://www.unitedwayoc.org/event/intro-to-housing-advocacy-7/
CATEGORIES:Advocacy,United to End Homelessness
ATTACH;FMTTYPE=image/jpeg:https://www.unitedwayoc.org/wp-content/uploads/2025/05/intro-to-advocacy-event-june-10-2025.jpg
LOCATION:https://www.unitedwayoc.org/event/intro-to-housing-advocacy-7/
END:VEVENT
BEGIN:VEVENT
DTSTART;TZID=America/Los_Angeles:20241212T150000
DTEND;TZID=America/Los_Angeles:20241212T160000
DTSTAMP:20260420T030455
CREATED:20241115T181815Z
LAST-MODIFIED:20250322T001115Z
UID:10000028-1734015600-1734019200@www.unitedwayoc.org
SUMMARY:Intro to Housing Advocacy
DESCRIPTION:Join us for an online session where we’ll cover the basics of housing advocacy and help you become a Housing Champion to #EndHomelessnessOC.\n\n\nWelcome to Intro to Housing Advocacy! \nAre you passionate about making a difference in your community? Join us for an informative session where you’ll learn the basics of advocating for affordable housing solutions and take away key strategies\, tools\, and resources to help you become a successful Housing Champion. \nWhether you’re a beginner or have some level of advocacy experience\, this event is perfect for anyone looking to make a local difference. Don’t miss out on this opportunity to learn and connect with like-minded individuals. \nRegister now and be part of the solution to #EndHomelessnessOC \nTo learn more about the Housing Champions Advocacy Network\, visit unitedtoendhomelessness.org/housing-champions
URL:https://www.unitedwayoc.org/event/intro-to-housing-advocacy-2/
CATEGORIES:Advocacy,Community Events,Learn More About Our Community Needs,United to End Homelessness
ATTACH;FMTTYPE=image/jpeg:https://www.unitedwayoc.org/wp-content/uploads/2024/11/https___cdn.evbuc_.com_images_869717569_337097345469_1_original-1.jpg
LOCATION:https://www.unitedwayoc.org/event/intro-to-housing-advocacy-2/
END:VEVENT
BEGIN:VEVENT
DTSTART;TZID=America/Los_Angeles:20241212T120000
DTEND;TZID=America/Los_Angeles:20241212T130000
DTSTAMP:20260420T030455
CREATED:20241017T034723Z
LAST-MODIFIED:20250322T001116Z
UID:10000017-1734004800-1734008400@www.unitedwayoc.org
SUMMARY:Intro to Housing Advocacy
DESCRIPTION:Join us for an online session where we’ll cover the basics of housing advocacy and help you become a Housing Champion to #EndHomelessnessOC.\n\n\nWelcome to Intro to Housing Advocacy!\nAre you passionate about making a difference in your community? Join us for an informative session where you’ll learn the basics of advocating for affordable housing solutions and take away key strategies\, tools\, and resources to help you become a successful Housing Champion. \nWhether you’re a beginner or have some level of advocacy experience\, this event is perfect for anyone looking to make a local difference. Don’t miss out on this opportunity to learn and connect with like-minded individuals. \nRegister now and be part of the solution to #EndHomelessnessOC \nTo learn more about the Housing Champions Advocacy Network\, visit unitedtoendhomelessness.org/housing-champions \nUnited to End Homelessness℠ is an initiative empowered by Orange County United Way. To learn more\, please visit unitedtoendhomelessness.org.
URL:https://www.unitedwayoc.org/event/intro-to-housing-advocacy/
CATEGORIES:Advocacy,Community Events,Learn More About Our Community Needs,United to End Homelessness
ATTACH;FMTTYPE=image/jpeg:https://www.unitedwayoc.org/wp-content/uploads/2024/10/https___cdn.evbuc_.com_images_869717569_337097345469_1_original.jpg
LOCATION:https://www.unitedwayoc.org/event/intro-to-housing-advocacy/
END:VEVENT
END:VCALENDAR